BEGIN:VCALENDAR
VERSION:2.0
PRODID:-//ChamberMaster//Event Calendar 2.0//EN
METHOD:PUBLISH
X-PUBLISHED-TTL:P3D
REFRESH-INTERVAL:P3D
CALSCALE:GREGORIAN
BEGIN:VEVENT
DTSTART:20150328T140000Z
DTEND:20150328T210000Z
X-MICROSOFT-CDO-ALLDAYEVENT:FALSE
SUMMARY:Gardening Study School
DESCRIPTION:Gardening Study School\n\n\n\nHosted By:\n\nFederated Garden Clubs of Nebraska\, Inc.
X-ALT-DESC;FMTTYPE=text/html:Gardening Study School<br />\n<br />\nHosted By:<br />\nFederated Garden Clubs of Nebraska\, Inc.
LOCATION:Kearney Public Library 2020 First Avenue Kearney\, NE 68847
UID:e.1404.6152
SEQUENCE:3
DTSTAMP:20260422T195742Z
URL:https://members.kearneycoc.org/events/details/gardening-study-school-03-28-2015-6152
END:VEVENT

END:VCALENDAR
