BEGIN:VCALENDAR
VERSION:2.0
PRODID:-//ChamberMaster//Event Calendar 2.0//EN
METHOD:PUBLISH
X-PUBLISHED-TTL:P3D
REFRESH-INTERVAL:P3D
CALSCALE:GREGORIAN
BEGIN:VEVENT
DTSTART;VALUE=DATE:20121114
DTEND;VALUE=DATE:20121116
TRANSP:TRANSPARENT
X-MICROSOFT-CDO-ALLDAYEVENT:TRUE
SUMMARY:Gateway Farm Expo
DESCRIPTION:Our 43rd annual Farm Expo will be held on November 14th & 15th\, 2012 at the Buffalo County  Fairgrounds in Kearney.  \n\n	If you have been here before\, you know that sales are made at the Gateway Farm Expo!  Our show is positioned right after harvest is complete.  Farmers generally have a good handle on their performance\, have a fresh perspective on what they want to do next year\, and are ready to invest in technology\, equipment and inputs.\n\n	We are excited to return to Buffalo County's new expo building and expect to sell out of booths again in 2012.
X-ALT-DESC;FMTTYPE=text/html:<p class="MsoNormal" style="mso-pagination:none\;margin-bottom:4.0pt">\n	<span lang="en-US" style="font-size:9.5pt\;language:en-US\;mso-ansi-language:en-US\;\nmso-char-tracking:102%">Our 43rd annual Farm Expo will be held on November 14</span><span lang="en-US" style="font-size:6.3269pt\;language:en-US\;mso-ansi-language:en-US\;\nmso-char-tracking:102%"><sup>th</sup></span><span lang="en-US" style="font-size:\n9.5pt\;language:en-US\;mso-ansi-language:en-US\;mso-char-tracking:102%"> &amp\; 15</span><span lang="en-US" style="font-size:6.3269pt\;language:en-US\;mso-ansi-language:en-US\;\nmso-char-tracking:102%"><sup>th</sup></span><span lang="en-US" style="font-size:\n9.5pt\;language:en-US\;mso-ansi-language:en-US\;mso-char-tracking:102%">\, 2012 at the Buffalo County&nbsp\; Fairgrounds in Kearney.&nbsp\; <o:p></o:p></span></p>\n<p class="MsoNormal" style="mso-pagination:none\;margin-bottom:4.0pt">\n	<span lang="en-US" style="font-size:9.5pt\;language:en-US\;mso-ansi-language:en-US\;\nmso-char-tracking:102%">If you have been here before\, you know that sales are made at the Gateway Farm Expo!&nbsp\; Our show is positioned right after harvest is complete.&nbsp\; Farmers generally have a good handle on their performance\, have a fresh perspective on what they want to do next year\, and are ready to invest in technology\, equipment and inputs.<o:p></o:p></span></p>\n<p class="MsoNormal">\n	<span lang="en-US" style="font-size:9.5pt\;language:en-US\;mso-ansi-language:en-US\;mso-char-tracking:\n102%">We are excited to return to Buffalo County&rsquo\;s new expo building and expect to sell out of booths again in 2012.</span><span lang="en-US"><o:p></o:p></span></p>\n
LOCATION:Buffalo County Fairgrounds
UID:e.1404.2189
SEQUENCE:3
DTSTAMP:20260424T223229Z
URL:https://members.kearneycoc.org/events/details/gateway-farm-expo-11-14-2012-2189
END:VEVENT

END:VCALENDAR
