BEGIN:VCALENDAR
VERSION:2.0
PRODID:-//ChamberMaster//Event Calendar 2.0//EN
METHOD:PUBLISH
X-PUBLISHED-TTL:P3D
REFRESH-INTERVAL:P3D
CALSCALE:GREGORIAN
BEGIN:VEVENT
DTSTART:20141120T150000Z
DTEND:20141120T230000Z
X-MICROSOFT-CDO-ALLDAYEVENT:FALSE
SUMMARY:Gateway Farm Expo
DESCRIPTION:45th Annual Farm Expo
X-ALT-DESC;FMTTYPE=text/html:45th Annual Farm Expo
LOCATION:Buffalo County Fairgrounds
UID:e.1404.5378
SEQUENCE:3
DTSTAMP:20260423T034201Z
URL:https://members.kearneycoc.org/events/details/gateway-farm-expo-11-20-2014-5378
END:VEVENT

END:VCALENDAR
