BEGIN:VCALENDAR
VERSION:2.0
PRODID:-//ChamberMaster//Event Calendar 2.0//EN
METHOD:PUBLISH
X-PUBLISHED-TTL:P3D
REFRESH-INTERVAL:P3D
CALSCALE:GREGORIAN
BEGIN:VEVENT
DTSTART:20200921T190000Z
DTEND:20200921T200000Z
X-MICROSOFT-CDO-ALLDAYEVENT:FALSE
SUMMARY:GB - Associated Staffing
DESCRIPTION:Join us for a Groundbreaking Ceremony for the new office of Associated Staffing!
X-ALT-DESC;FMTTYPE=text/html:Join us for a Groundbreaking Ceremony for the new office of&nbsp\;<a href="http://www.associated-staffing.com/kearney">Associated Staffing</a>!
LOCATION:711 E. 25th St.
UID:e.1404.18712
SEQUENCE:3
DTSTAMP:20260424T223141Z
URL:https://members.kearneycoc.org/events/details/gb-associated-staffing-18712
END:VEVENT

END:VCALENDAR
