BEGIN:VCALENDAR
VERSION:2.0
PRODID:-//ChamberMaster//Event Calendar 2.0//EN
METHOD:PUBLISH
X-PUBLISHED-TTL:P3D
REFRESH-INTERVAL:P3D
CALSCALE:GREGORIAN
BEGIN:VEVENT
DTSTART:20210519T190000Z
DTEND:20210519T200000Z
X-MICROSOFT-CDO-ALLDAYEVENT:FALSE
SUMMARY:GB - Pinnacle Bank
DESCRIPTION:Join us for a Groundbreaking Ceremony for Pinnacle Bank!
X-ALT-DESC;FMTTYPE=text/html:Join us for a Groundbreaking Ceremony for <a href="https://www.pinnbank.com/">Pinnacle Bank</a>!
LOCATION:Northeast of HyVee
UID:e.1404.19071
SEQUENCE:3
DTSTAMP:20260424T081117Z
URL:https://members.kearneycoc.org/events/details/gb-pinnacle-bank-19071
END:VEVENT

END:VCALENDAR
