BEGIN:VCALENDAR
VERSION:2.0
PRODID:-//ChamberMaster//Event Calendar 2.0//EN
METHOD:PUBLISH
X-PUBLISHED-TTL:P3D
REFRESH-INTERVAL:P3D
CALSCALE:GREGORIAN
BEGIN:VEVENT
DTSTART:20190719T130000Z
DTEND:20190719T200000Z
X-MICROSOFT-CDO-ALLDAYEVENT:FALSE
SUMMARY:Gears and Gadgets Camp
DESCRIPTION:Go\, Go\, Gears & Gadgets! Children will participate in various STEM activities that spark the imagination and launch critical thinking and teamwork. Children will also get to operate real robots provided by KHS Engineering!\n\nAges 4-10\n\nChildren need a sack lunch
X-ALT-DESC;FMTTYPE=text/html:Go\, Go\, Gears &amp\; Gadgets! Children will participate in various STEM activities that spark the imagination and launch critical thinking and teamwork. Children will also get to operate real robots provided by KHS Engineering!<br />\nAges 4-10<br />\nChildren need a sack lunch
LOCATION:Kearney Area Children's Museum Alia Arram Memorial Building 5827 4th Ave\, Kearney\, NE 68845
UID:e.1404.16562
SEQUENCE:3
DTSTAMP:20260425T212941Z
URL:https://members.kearneycoc.org/events/details/gears-and-gadgets-camp-16562
END:VEVENT

END:VCALENDAR
