BEGIN:VCALENDAR
VERSION:2.0
PRODID:-//ChamberMaster//Event Calendar 2.0//EN
METHOD:PUBLISH
X-PUBLISHED-TTL:P3D
REFRESH-INTERVAL:P3D
CALSCALE:GREGORIAN
BEGIN:VEVENT
DTSTART:20191018T003000Z
DTEND:20191018T030000Z
X-MICROSOFT-CDO-ALLDAYEVENT:FALSE
SUMMARY:GET THE LED OUT
DESCRIPTION:From the bombastic and epic\, to the folky and mystical\, Get The Led Out (GTLO) has captured the essence of Led Zeppelin music and brought it to the concert stage. GTLO re-creates the songs of "The Mighty Zep".
X-ALT-DESC;FMTTYPE=text/html:From the bombastic and epic\, to the folky and mystical\, Get The Led Out (GTLO) has captured the essence of Led Zeppelin music and brought it to the concert stage. GTLO re-creates the songs of &ldquo\;The Mighty Zep&rdquo\;.
LOCATION:Merryman Performing Arts Center 225 W 22nd Street
UID:e.1404.16578
SEQUENCE:3
DTSTAMP:20260425T164000Z
URL:https://members.kearneycoc.org/events/details/get-the-led-out-10-17-2019-16578
END:VEVENT

END:VCALENDAR
