BEGIN:VCALENDAR
VERSION:2.0
PRODID:-//ChamberMaster//Event Calendar 2.0//EN
METHOD:PUBLISH
X-PUBLISHED-TTL:P3D
REFRESH-INTERVAL:P3D
CALSCALE:GREGORIAN
BEGIN:VEVENT
DTSTART:20150704T180000Z
DTEND:20150704T220000Z
X-MICROSOFT-CDO-ALLDAYEVENT:FALSE
SUMMARY:Gibbon Tractor Pull
DESCRIPTION:Featuring the Outlaw Truck and Tractor Pulling Association and the Nebraska Truck and Tractor Pullers Association.
X-ALT-DESC;FMTTYPE=text/html:Featuring the Outlaw Truck and Tractor Pulling Association and the Nebraska Truck and Tractor Pullers Association.
LOCATION:Aurora Co-op West Edge of Gibbon\, NE
UID:e.1404.6449
SEQUENCE:3
DTSTAMP:20260422T132431Z
URL:https://members.kearneycoc.org/events/details/gibbon-tractor-pull-07-04-2015-6449
END:VEVENT

END:VCALENDAR
