BEGIN:VCALENDAR
VERSION:2.0
PRODID:-//ChamberMaster//Event Calendar 2.0//EN
METHOD:PUBLISH
X-PUBLISHED-TTL:P3D
REFRESH-INTERVAL:P3D
CALSCALE:GREGORIAN
BEGIN:VEVENT
DTSTART:20160813T000000Z
DTEND:20160813T030000Z
X-MICROSOFT-CDO-ALLDAYEVENT:FALSE
SUMMARY:Gibbon Tractor Pull
DESCRIPTION:Gibbon Tractor Pull. Thunder in the Dirt! Featuring the Outlaw Truck and Tractor Pullers and the Nebraska Truck and Tractor Pullers Associations. Event rescheduled due to rain out on July 2. See the Dirt Fly!
X-ALT-DESC;FMTTYPE=text/html:Gibbon Tractor Pull. Thunder in the Dirt! Featuring the Outlaw Truck and Tractor Pullers and the Nebraska Truck and Tractor Pullers Associations. Event rescheduled due to rain out on July 2. See the Dirt Fly!
LOCATION:Aurora Co-op facility on the west edge of Gibbon
UID:e.1404.8936
SEQUENCE:3
DTSTAMP:20260421T152733Z
URL:https://members.kearneycoc.org/events/details/gibbon-tractor-pull-08-12-2016-8936
END:VEVENT

END:VCALENDAR
