BEGIN:VCALENDAR
VERSION:2.0
PRODID:-//ChamberMaster//Event Calendar 2.0//EN
METHOD:PUBLISH
X-PUBLISHED-TTL:P3D
REFRESH-INTERVAL:P3D
CALSCALE:GREGORIAN
BEGIN:VEVENT
DTSTART:20191005T020000Z
DTEND:20191005T043000Z
X-MICROSOFT-CDO-ALLDAYEVENT:FALSE
SUMMARY:Girls Night Out the Show at JD's
DESCRIPTION:Open to Ages 21+\n\n\n\nGirls Night Out\, the #1 Ladies Night Event Is Coming to Kearney on Friday October 4th! Limited Tickets On Sale NOW!\n\n\n\nPurchase tickets online @ http://bit.ly/2m12Rxp
X-ALT-DESC;FMTTYPE=text/html:<span style="color: rgb(29\, 33\, 41)\; font-family: Helvetica\, Arial\, sans-serif\; font-size: 14px\; white-space: pre-wrap\;">Open to Ages 21+</span><br style="color: rgb(29\, 33\, 41)\; font-family: Helvetica\, Arial\, sans-serif\; font-size: 14px\; white-space: pre-wrap\;" />\n<br style="color: rgb(29\, 33\, 41)\; font-family: Helvetica\, Arial\, sans-serif\; font-size: 14px\; white-space: pre-wrap\;" />\n<span style="color: rgb(29\, 33\, 41)\; font-family: Helvetica\, Arial\, sans-serif\; font-size: 14px\; white-space: pre-wrap\;">Girls Night Out\, the #1 Ladies Night Event Is Coming to Kearney on Friday October 4th! Limited Tickets On Sale NOW!</span><br style="color: rgb(29\, 33\, 41)\; font-family: Helvetica\, Arial\, sans-serif\; font-size: 14px\; white-space: pre-wrap\;" />\n<br style="color: rgb(29\, 33\, 41)\; font-family: Helvetica\, Arial\, sans-serif\; font-size: 14px\; white-space: pre-wrap\;" />\n<span style="color: rgb(29\, 33\, 41)\; font-family: Helvetica\, Arial\, sans-serif\; font-size: 14px\; white-space: pre-wrap\;">Purchase tickets online @ </span><a data-lynx-mode="hover" data-lynx-uri="https://l.facebook.com/l.php?u=https%3A%2F%2Fbit.ly%2F2m12Rxp%3Ffbclid%3DIwAR1iPgF6SNxdCIXuxNBx3oZ0W_0pWVN__w1odbM3pAG65Z12sPmqL6l8i0I&amp\;h=AT1NVOWkoX-IeuZxMeXZoE9ib68LO8MsNLdSDMsJ2nqj0W504zZQv8EvgXa4ZTo5g8em-92OQR_rpgfxUj8SUwXDaFA1PNT95TLtoTFqwmkIYUTVkDiASap4-UNHrQGIOks" href="https://bit.ly/2m12Rxp?fbclid=IwAR1iPgF6SNxdCIXuxNBx3oZ0W_0pWVN__w1odbM3pAG65Z12sPmqL6l8i0I" rel="nofollow noopener" style="color: rgb(56\, 88\, 152)\; cursor: pointer\; text-decoration-line: none\; font-family: Helvetica\, Arial\, sans-serif\; font-size: 14px\; white-space: pre-wrap\;" target="_blank">http://bit.ly/2m12Rxp</a>
LOCATION:2023 1st Ave Kearney\, NE 68847
UID:e.1404.17899
SEQUENCE:3
DTSTAMP:20260425T164154Z
URL:https://members.kearneycoc.org/events/details/girls-night-out-the-show-at-jd-s-17899
END:VEVENT

END:VCALENDAR
