BEGIN:VCALENDAR
VERSION:2.0
PRODID:-//ChamberMaster//Event Calendar 2.0//EN
METHOD:PUBLISH
X-PUBLISHED-TTL:P3D
REFRESH-INTERVAL:P3D
CALSCALE:GREGORIAN
BEGIN:VEVENT
DTSTART:20150729T133000Z
DTEND:20150729T170000Z
X-MICROSOFT-CDO-ALLDAYEVENT:FALSE
SUMMARY:Glenn Shepard\, "How to Supervise & Lead a Team" - Chamber YOUniversity Training
DESCRIPTION:Be the Manager Other Managers Envy and Bosses Can't Wait to Reward!\n\n2015 Seminar - "How to Supervise People and Lead a Team!" with Glenn Shepard.\n\n\n\nThe best managers have learned how to deal with problems without missing a beat! Now you can too!\n\n\n\nIn this short\, intensive and enjoyable seminar\, you'll learn how to effortlessly:\n\n	Defuse tension\n	Derail toxic behavior\n	Defang even the most malicious employee\n\nEngergize your people and bring everyone together solidly as a team. Learn the powerful strategies you need to solve your worst workplace problems.\n\n\n\nLearn more about Glen Shepard by going to his website.
X-ALT-DESC;FMTTYPE=text/html:Be the Manager Other Managers Envy and Bosses Can&#39\;t Wait to Reward!<br />\n2015 Seminar -&nbsp\;&quot\;How to Supervise People and Lead a Team!&quot\; with Glenn Shepard.<br />\n<br />\nThe best managers have learned how to deal with problems without missing a beat! Now you can too!<br />\n<br />\nIn this short\, intensive and enjoyable seminar\, you&#39\;ll learn how to effortlessly:\n<ul>\n	<li>Defuse tension</li>\n	<li>Derail&nbsp\;toxic behavior</li>\n	<li>Defang even the most malicious employee</li>\n</ul>\nEngergize your people and bring everyone together solidly as a team. Learn the powerful strategies you need to solve your worst workplace problems.<br />\n<br />\nLearn more about Glen Shepard by going to his <a href="http://www.glennshepard.com/">website</a>.&nbsp\;<br />\n&nbsp\;
LOCATION:Ramada Inn 301 2nd Ave Kearney NE
UID:e.1404.6193
SEQUENCE:3
DTSTAMP:20260422T133201Z
URL:https://members.kearneycoc.org/events/details/glenn-shepard-how-to-supervise-lead-a-team-chamber-youniversity-training-07-29-2015-6193
END:VEVENT

END:VCALENDAR
