BEGIN:VCALENDAR
VERSION:2.0
PRODID:-//ChamberMaster//Event Calendar 2.0//EN
METHOD:PUBLISH
X-PUBLISHED-TTL:P3D
REFRESH-INTERVAL:P3D
CALSCALE:GREGORIAN
BEGIN:VEVENT
DTSTART:20120815T133000Z
DTEND:20120815T170000Z
X-MICROSOFT-CDO-ALLDAYEVENT:FALSE
SUMMARY:Glenn Shepard Seminar - Be the Manager Other Managers Envy and Bosses Can't Wait to Reward
DESCRIPTION:Glenn Shepard Seminars\, one of our Chamber Members\, is providing you an opportunity to take part in a special seminar to be offered to members of the Kearney Area Chamber of Commerce.  \n\n	The speaker is Glenn Shepard\, and he will present a half-day seminar "How to Supervise People and Lead a Team" is based on one of his books\, How to Manage Problem Employees.  The seminar will take place at the Ramada Conference Center in Kearney on Wednesday\, August 15 from 8:30 to 12:00\n\n	Mr. Shepard will be giving away lots of freebies at the event\, including autographed copies of his latest book with Stephen Covey and Brian Tracy. He has also agreed to remain after the program to answer any questions that you may have.\n\n	This program has been approved for 3.25 (General) recertification credit hours toward PHR\, SPHR and GPHR recertification through the HR Certification Institute.
X-ALT-DESC;FMTTYPE=text/html:<p class="MsoNormal">\n	<font face="Times New Roman" size="2"><span style="FONT-SIZE: 10.5pt">Glenn Shepard Seminars\, one of our Chamber Members\, is providing you an opportunity to take part in a special seminar to be offered to members of the Kearney Area Chamber of Commerce.&nbsp\; </span></font></p>\n<p class="MsoNormal">\n	<font face="Times New Roman" size="2"><span style="FONT-SIZE: 10.5pt">The speaker is Glenn Shepard\, and he will present a half-day seminar &ldquo\;How to Supervise People and Lead a Team&rdquo\; is based on one of his books\, How to Manage Problem Employees.&nbsp\; The seminar will take place at the Ramada Conference Center in Kearney on Wednesday\, August 15 from 8:30 to 12:00</span></font></p>\n<p class="MsoBodyText">\n	<font face="Times New Roman" size="2"><span style="FONT-SIZE: 10.5pt">Mr. Shepard will be giving away lots of freebies at the event\, including autographed copies of his latest book with Stephen Covey and Brian Tracy. He has also agreed to remain after the program to answer any questions that you may have.</span></font></p>\n<p class="MsoNormal">\n	<font face="Times New Roman" size="2"><span style="FONT-SIZE: 10.5pt">This program has been approved for 3.25 (General) recertification credit hours toward PHR\, SPHR and GPHR recertification through the HR Certification Institute.</span></font></p>\n
LOCATION:Ramada Conference Center in Kearney
UID:e.1404.1930
SEQUENCE:3
DTSTAMP:20260425T015459Z
URL:https://members.kearneycoc.org/events/details/glenn-shepard-seminar-be-the-manager-other-managers-envy-and-bosses-can-t-wait-to-reward-08-15-2012-1930
END:VEVENT

END:VCALENDAR
