BEGIN:VCALENDAR
VERSION:2.0
PRODID:-//ChamberMaster//Event Calendar 2.0//EN
METHOD:PUBLISH
X-PUBLISHED-TTL:P3D
REFRESH-INTERVAL:P3D
CALSCALE:GREGORIAN
BEGIN:VEVENT
DTSTART:20190314T180000Z
DTEND:20190314T200000Z
X-MICROSOFT-CDO-ALLDAYEVENT:FALSE
SUMMARY:Global Climate Change
DESCRIPTION:Climate Change: Science\, Impact\, And Opinion: This Senior College class will inform participants on the essential science of climate\, how climate can change\, what the impacts of that change can/will be and the national and global discussions on climate change.
X-ALT-DESC;FMTTYPE=text/html:Climate Change: Science\, Impact\, And Opinion: This Senior College class will inform participants on the essential science of climate\, how climate can change\, what the impacts of that change can/will be and the national and global discussions on climate change.
LOCATION:Ockinga Auditorium on the University of Nebraska Kearney campus
UID:e.1404.15407
SEQUENCE:3
DTSTAMP:20260426T032950Z
URL:https://members.kearneycoc.org/events/details/global-climate-change-15407
END:VEVENT

END:VCALENDAR
