BEGIN:VCALENDAR
VERSION:2.0
PRODID:-//ChamberMaster//Event Calendar 2.0//EN
METHOD:PUBLISH
X-PUBLISHED-TTL:P3D
REFRESH-INTERVAL:P3D
CALSCALE:GREGORIAN
BEGIN:VEVENT
DTSTART:20190913T230000Z
DTEND:20190914T013000Z
X-MICROSOFT-CDO-ALLDAYEVENT:FALSE
SUMMARY:"Glow in the Dark" Kids Night Out
DESCRIPTION:"Glow In The Dark!" Night\n\n\n\nThat's right! We will be completing challenges in the dark (semi-dark) museum. Don't worry\, there will be light for your little fireflies who don't quite like the dark. We will enjoy fun games with glow sticks and find hidden glowing gems hidden throughout the museum.                                                                   \n\n\n\nDinner will be corn dogs\, fruit\, cookie\, lemonade or water. If children have any food allergies they are welcome to bring their own dinner along with them.  This event is for children ages 3-12.
X-ALT-DESC;FMTTYPE=text/html:&ldquo\;Glow In The Dark!&rdquo\; Night<br />\n<br />\nThat&rsquo\;s right! We will be completing challenges in the dark (semi-dark) museum. Don&rsquo\;t worry\, there will be light for your little fireflies who don&rsquo\;t quite like the dark. We will enjoy fun games with glow sticks and find hidden glowing gems hidden throughout the museum.&nbsp\; &nbsp\; &nbsp\; &nbsp\; &nbsp\; &nbsp\; &nbsp\; &nbsp\; &nbsp\; &nbsp\; &nbsp\; &nbsp\; &nbsp\; &nbsp\; &nbsp\; &nbsp\; &nbsp\; &nbsp\; &nbsp\; &nbsp\; &nbsp\; &nbsp\; &nbsp\; &nbsp\; &nbsp\; &nbsp\; &nbsp\; &nbsp\; &nbsp\; &nbsp\; &nbsp\; &nbsp\; &nbsp\; &nbsp\;<br />\n<br />\nDinner will be corn dogs\, fruit\, cookie\, lemonade or water. If children have any food allergies they are welcome to bring their own dinner along with them.&nbsp\; This event is for children ages 3-12.&nbsp\;
LOCATION:Kearney Area Children's Museum Alia Arram Memoral Building 5827 4th Avenue\, Kearney\, NE 68845
UID:e.1404.16636
SEQUENCE:3
DTSTAMP:20260425T181013Z
URL:https://members.kearneycoc.org/events/details/glow-in-the-dark-kids-night-out-16636
END:VEVENT

END:VCALENDAR
