BEGIN:VCALENDAR
VERSION:2.0
PRODID:-//ChamberMaster//Event Calendar 2.0//EN
METHOD:PUBLISH
X-PUBLISHED-TTL:P3D
REFRESH-INTERVAL:P3D
CALSCALE:GREGORIAN
BEGIN:VEVENT
DTSTART:20151028T220000Z
DTEND:20151029T020000Z
X-MICROSOFT-CDO-ALLDAYEVENT:FALSE
SUMMARY:Go Red For Women
DESCRIPTION:Kearney Go Red For Women celebrates the energy\, passion and power we have as women to band together to wipe out heart disease and stroke. \n\nHeart disease is no match for the power of women's voices. Most women don't notice the symptoms of heart disease until it's too late. That's why heart disease has been called the silent killer. But we won't be silent. Yet\, many of these deaths can be prevented.\n\nThe American Heart Association's Go Red For Women is the world's largest network of women standing together to save women's lives from heart disease. Millions of women have united to raise their voices about their No. 1 killer. With your help\, many more lives can be saved.\n\nThe American Heart Association's Go Red For Women is the world's largest network of women standing together to save women's lives from heart disease. Millions of women have united to raise their voices about their No. 1 killer. With your help\, many more lives can be saved.\n\nFind out how you can raise your voice to end the no. 1 killer of women at this year's Go Red For Women.
X-ALT-DESC;FMTTYPE=text/html:<p style="margin: 0px 0px 10px\; padding: 0px\; border: 0px\; font-family: Arial\, 'Trebuchet MS'\, Verdana\, Helvetica\, sans-serif\; font-size: 14.6666669845581px\; font-stretch: inherit\; line-height: 18px\; vertical-align: baseline\; background-color: rgb(255\, 255\, 255)\;"><span style="margin: 0px\; padding: 0px\; border: 0px\; font-family: inherit\; font-size: inherit\; font-style: inherit\; font-variant: inherit\; font-weight: inherit\; font-stretch: inherit\; line-height: inherit\; vertical-align: baseline\; color: rgb(33\, 33\, 33)\;">Kearney Go Red For Women celebrates the energy\, passion and power we have as women to band together to wipe out heart disease and stroke.&nbsp\;</span></p>\n\n<p style="margin: 0px 0px 10px\; padding: 0px\; border: 0px\; font-family: Arial\, 'Trebuchet MS'\, Verdana\, Helvetica\, sans-serif\; font-size: 14.6666669845581px\; font-stretch: inherit\; line-height: 18px\; vertical-align: baseline\; background-color: rgb(255\, 255\, 255)\;"><strong style="margin: 0px\; padding: 0px\; border: 0px\; font-family: inherit\; font-size: inherit\; font-style: inherit\; font-variant: inherit\; font-stretch: inherit\; line-height: inherit\; vertical-align: baseline\;">Heart disease is no match for the power of women&rsquo\;s voices.</strong>&nbsp\;Most women don&rsquo\;t notice the symptoms of heart disease until it&rsquo\;s too late. That&rsquo\;s why heart disease has been called the silent killer. But we won&rsquo\;t be silent. Yet\, many of these deaths can be prevented.</p>\n\n<p style="margin: 0px 0px 10px\; padding: 0px\; border: 0px\; font-family: Arial\, 'Trebuchet MS'\, Verdana\, Helvetica\, sans-serif\; font-size: 14.6666669845581px\; font-stretch: inherit\; line-height: 18px\; vertical-align: baseline\; background-color: rgb(255\, 255\, 255)\;">The American Heart Association&rsquo\;s Go Red For Women is the world&rsquo\;s largest network of women standing together to save women&rsquo\;s lives from heart disease. Millions of women have united to raise their voices about their No. 1 killer. With your help\, many more lives can be saved.</p>\n\n<p style="margin: 0px 0px 10px\; padding: 0px\; border: 0px\; font-family: Arial\, 'Trebuchet MS'\, Verdana\, Helvetica\, sans-serif\; font-size: 14.6666669845581px\; font-stretch: inherit\; line-height: 18px\; vertical-align: baseline\; background-color: rgb(255\, 255\, 255)\;">The American Heart Association&rsquo\;s Go Red For Women is the world&rsquo\;s largest network of women standing together to save women&rsquo\;s lives from heart disease. Millions of women have united to raise their voices about their No. 1 killer. With your help\, many more lives can be saved.</p>\n\n<p style="margin: 0px 0px 10px\; padding: 0px\; border: 0px\; font-family: Arial\, 'Trebuchet MS'\, Verdana\, Helvetica\, sans-serif\; font-size: 14.6666669845581px\; font-stretch: inherit\; line-height: 18px\; vertical-align: baseline\; background-color: rgb(255\, 255\, 255)\;">Find out how you can raise your voice to end the no. 1 killer of women at this year&rsquo\;s Go Red For Women.</p>\n
LOCATION:Younes Conference Center 416 W Talmadge Road
UID:e.1404.6725
SEQUENCE:3
DTSTAMP:20260422T083738Z
URL:https://members.kearneycoc.org/events/details/go-red-for-women-10-28-2015-6725
END:VEVENT

END:VCALENDAR
