BEGIN:VCALENDAR
VERSION:2.0
PRODID:-//ChamberMaster//Event Calendar 2.0//EN
METHOD:PUBLISH
X-PUBLISHED-TTL:P3D
REFRESH-INTERVAL:P3D
CALSCALE:GREGORIAN
BEGIN:VEVENT
DTSTART:20190919T223000Z
DTEND:20190920T013000Z
X-MICROSOFT-CDO-ALLDAYEVENT:FALSE
SUMMARY:Go Red for Women
DESCRIPTION:Go Red for Women
X-ALT-DESC;FMTTYPE=text/html:Go Red for Women
LOCATION:
UID:e.1404.15960
SEQUENCE:3
DTSTAMP:20260425T180715Z
URL:https://members.kearneycoc.org/events/details/go-red-for-women-15960
END:VEVENT

END:VCALENDAR
