BEGIN:VCALENDAR
VERSION:2.0
PRODID:-//ChamberMaster//Event Calendar 2.0//EN
METHOD:PUBLISH
X-PUBLISHED-TTL:P3D
REFRESH-INTERVAL:P3D
CALSCALE:GREGORIAN
BEGIN:VEVENT
DTSTART:20220627T224500Z
DTEND:20220628T000000Z
X-MICROSOFT-CDO-ALLDAYEVENT:FALSE
SUMMARY:Golf 101
DESCRIPTION:Have you made a fool of yourself on the course because you didn't know how to golf? Or worse yet\, have you avoided networking events because golf was involved? TIME TO FIX THAT!! For a measly $15\, you can change your professional life by joining YPN at Meadowlark Hills Golf Course on June 27th at 5:45pm to learn from the experts in a judgment-free environment! We'll start out at the clubhouse with some pointers\, then head out to the range for practice\, and we'll follow up with burgers and chips at the clubhouse. *RSVP and payment are required to attend. YPN members and guests are welcome to attend! Visit https://www.kearneycoc.org/one-time-payment and select YPN Golf 101 as your reason for payment.
X-ALT-DESC;FMTTYPE=text/html:Have you made a fool of yourself on the course because you didn&#39\;t know how to golf? Or worse yet\, have you avoided networking events because golf was involved? TIME TO FIX THAT!! For a measly $15\, you can change your professional life by joining YPN at Meadowlark Hills Golf Course on June 27th at 5:45pm to learn from the experts in a judgment-free environment! We&#39\;ll start out at the clubhouse with some pointers\, then head out to the range for practice\, and we&#39\;ll follow up with burgers and chips at the clubhouse. *RSVP and payment are required to attend. YPN members and guests are welcome to attend! Visit https://www.kearneycoc.org/one-time-payment and select YPN Golf 101 as your reason for payment.
LOCATION:Meadowlark Golf Course
UID:e.1404.19954
SEQUENCE:3
DTSTAMP:20260423T100648Z
URL:https://members.kearneycoc.org/events/details/golf-101-19954
END:VEVENT

END:VCALENDAR
