BEGIN:VCALENDAR
VERSION:2.0
PRODID:-//ChamberMaster//Event Calendar 2.0//EN
METHOD:PUBLISH
X-PUBLISHED-TTL:P3D
REFRESH-INTERVAL:P3D
CALSCALE:GREGORIAN
BEGIN:VEVENT
DTSTART:20191012T190000Z
DTEND:20191012T220000Z
X-MICROSOFT-CDO-ALLDAYEVENT:FALSE
SUMMARY:Golf Event - Get Tee'd Off At Breast Cancer 2 Person Scramble
DESCRIPTION:Get Tee'd Off At Breast Cancer 2 Person Scramble Golf Tournament - 7 Iron Only\n\nElks Country Golf\, Kearney NE\n\n2:00 p.m. Check-in\, 3:00 Shotgun Start\n\n$100/Team includes a burger dinner.\n\nFlag Prizes\, Raffles & Shenanigans!
X-ALT-DESC;FMTTYPE=text/html:Get Tee&#39\;d Off At Breast Cancer 2 Person Scramble Golf Tournament - 7 Iron Only<br />\nElks Country Golf\, Kearney NE<br />\n2:00 p.m. Check-in\, 3:00 Shotgun Start<br />\n$100/Team includes a burger dinner.<br />\nFlag Prizes\, Raffles &amp\; Shenanigans!
LOCATION:Register by calling 308.293.6025 or online at www.kearneyprojectpink.com
UID:e.1404.17862
SEQUENCE:3
DTSTAMP:20260425T164156Z
URL:https://members.kearneycoc.org/events/details/golf-event-get-tee-d-off-at-breast-cancer-2-person-scramble-17862
END:VEVENT

END:VCALENDAR
