BEGIN:VCALENDAR
VERSION:2.0
PRODID:-//ChamberMaster//Event Calendar 2.0//EN
METHOD:PUBLISH
X-PUBLISHED-TTL:P3D
REFRESH-INTERVAL:P3D
CALSCALE:GREGORIAN
BEGIN:VEVENT
DTSTART:20160611T140000Z
DTEND:20160611T200000Z
X-MICROSOFT-CDO-ALLDAYEVENT:FALSE
SUMMARY:Golf to End Alzheimer's
DESCRIPTION:Come out and play some golf while raising money for Alzheimer's! Saturday\, June 11 at 9:00 am shotgun start 4 person scramble! Tournament fee includes 18 holes\, cart\, and lunch! There will be cash payouts and prizes! If you or your business are interested in sponsoring this fundraiser tournament\, hole sponsorships are still available!
X-ALT-DESC;FMTTYPE=text/html:Come out and play some golf while raising money for Alzheimer&#39\;s! Saturday\, June 11 at 9:00 am shotgun start 4 person scramble! Tournament fee includes 18 holes\, cart\, and lunch! There will be cash payouts and prizes! If you or your business are interested in sponsoring this fundraiser tournament\, hole sponsorships are still available!
LOCATION:Prairie Hills Golf Club 21400 Clubhouse Dr. Pleasanton\, NE
UID:e.1404.8769
SEQUENCE:3
DTSTAMP:20260421T184604Z
URL:https://members.kearneycoc.org/events/details/golf-to-end-alzheimer-s-06-11-2016-8769
END:VEVENT

END:VCALENDAR
