BEGIN:VCALENDAR
VERSION:2.0
PRODID:-//ChamberMaster//Event Calendar 2.0//EN
METHOD:PUBLISH
X-PUBLISHED-TTL:P3D
REFRESH-INTERVAL:P3D
CALSCALE:GREGORIAN
BEGIN:VEVENT
DTSTART:20150722T230000Z
DTEND:20150723T010000Z
X-MICROSOFT-CDO-ALLDAYEVENT:FALSE
SUMMARY:Good Living Tour
DESCRIPTION:The Good Living Tour is a multi-band concert series and community media tour through nine Greater Nebraska communities in June/July 2015. The first of its kind\, the project aims to help communities attract and retain young people by showcasing and celebrating their vitality\, livelihood and music and arts culture.\n\n\n\nThe Good Living Tour reaches a desirable key audience segment: 16-44 year-old professionals and families across Nebraska. This unique\, cool event provides an engaging way to earn top-of-mind-awareness and instant name recognition for your brand.  More importantly\, it's a feel-good opportunity to support Nebraska's economic prosperity\, and music and arts heritage. \n\n\n\nThe Tour will be making a stop in Kearney on Wednesday\, July 22 at Yanney Heritage Park. Mike Adams & Friends\, The Seen\, and Josh Hoyer & the Shadowboxers will be playing and the doors will open at 6pm. This concert is FREE to the public!
X-ALT-DESC;FMTTYPE=text/html:The Good Living Tour is a multi-band concert series and community media tour through nine Greater Nebraska communities in June/July 2015. The first of its kind\, the project aims to help communities attract and retain young people by showcasing and celebrating their vitality\, livelihood and music and arts culture.<br />\n<br />\nThe Good Living Tour reaches a desirable key audience segment: 16-44 year-old professionals and families across Nebraska.&nbsp\;This unique\, cool event provides an engaging way to earn top-of-mind-awareness and instant name recognition for your brand. &nbsp\;More importantly\, it&rsquo\;s a feel-good opportunity to support Nebraska&rsquo\;s economic prosperity\, and music and arts heritage.&nbsp\;<br />\n<br />\nThe Tour will be making a stop in Kearney on Wednesday\, July 22 at Yanney Heritage Park. Mike Adams &amp\;&nbsp\;Friends\, The Seen\, and Josh Hoyer&nbsp\;&amp\; the Shadowboxers&nbsp\;will be playing and the doors will open at 6pm. This concert is FREE to the public!
LOCATION:Yanney Heritage Park 2020 W. 11th St.
UID:e.1404.6493
SEQUENCE:3
DTSTAMP:20260422T151711Z
URL:https://members.kearneycoc.org/events/details/good-living-tour-07-22-2015-6493
END:VEVENT

END:VCALENDAR
