BEGIN:VCALENDAR
VERSION:2.0
PRODID:-//ChamberMaster//Event Calendar 2.0//EN
METHOD:PUBLISH
X-PUBLISHED-TTL:P3D
REFRESH-INTERVAL:P3D
CALSCALE:GREGORIAN
BEGIN:VEVENT
DTSTART:20120818T170000Z
DTEND:20120818T230000Z
X-MICROSOFT-CDO-ALLDAYEVENT:FALSE
SUMMARY:Good Samaritan Hospital new expansion tours
DESCRIPTION:Community Open House and Tours   Noon to 6 p.m. (Open to the Public)\n\nTours\, ice cream social\, interactive heart display and more for the community.
X-ALT-DESC;FMTTYPE=text/html:<strong>Community Open House and Tours &mdash\; Noon to 6 p.m. (Open to the Public)</strong><br />\nTours\, ice cream social\, interactive heart display and more for the community.
LOCATION:Good Samaritan Hosptial\, located at 10 E 31st Street
UID:e.1404.1886
SEQUENCE:3
DTSTAMP:20260425T033228Z
URL:https://members.kearneycoc.org/events/details/good-samaritan-hospital-new-expansion-tours-08-18-2012-1886
END:VEVENT

END:VCALENDAR
