BEGIN:VCALENDAR
VERSION:2.0
PRODID:-//ChamberMaster//Event Calendar 2.0//EN
METHOD:PUBLISH
X-PUBLISHED-TTL:P3D
REFRESH-INTERVAL:P3D
CALSCALE:GREGORIAN
BEGIN:VEVENT
DTSTART:20120811T230000Z
DTEND:20120812T020000Z
X-MICROSOFT-CDO-ALLDAYEVENT:FALSE
SUMMARY:Good Samaritan Hostpital new expansion Gala
DESCRIPTION:Gala   6 to 9 p.m. (Invitation Only)\n\nA cocktail party\, tours and entertainment for our medical staff\, boards\, donors\, our CAH Network Admins & DONs\, CHI Nebraska leaders
X-ALT-DESC;FMTTYPE=text/html:<strong>Gala &mdash\; 6 to 9 p.m. (Invitation Only)</strong><br />\nA cocktail party\, tours and entertainment for our medical staff\, boards\, donors\, our CAH Network Admins &amp\; DONs\, CHI Nebraska leaders
LOCATION:Good Samaritan Hospital\, located at 10 E 31st Street
UID:e.1404.1887
SEQUENCE:3
DTSTAMP:20260425T033122Z
URL:https://members.kearneycoc.org/events/details/good-samaritan-hostpital-new-expansion-gala-08-11-2012-1887
END:VEVENT

END:VCALENDAR
