BEGIN:VCALENDAR
VERSION:2.0
PRODID:-//ChamberMaster//Event Calendar 2.0//EN
METHOD:PUBLISH
X-PUBLISHED-TTL:P3D
REFRESH-INTERVAL:P3D
CALSCALE:GREGORIAN
BEGIN:VEVENT
DTSTART:20150529T180000Z
DTEND:20150529T230000Z
X-MICROSOFT-CDO-ALLDAYEVENT:FALSE
SUMMARY:Good Samaritan Society Championship Series Golf Tournament
DESCRIPTION:There will be lunch provided\, sponsorship opportunities\, a hole-in-one contest to win a car from Midway Chevrolet\, a chance to win a trip for four to golf at Valentine's renowned Prairie Club\, and tons of other prizes. If you need an excuse to take a Friday afternoon off while supporting an amazing cause\, this is the perfect time! Good Samaritan Society-Kearney encompasses St. Luke's\, St. John's\, and Prairie View Gardens\, home to over 150 residents and rehab/therapy patients. Help us reach our goal of $15\,000 to help provide these people with new equipment\, innovative activities\, and center updates! To register or more information\, call Courtney at 865-2650 or email chughba1@good-sam.com. Registration is also available online at www.good-sam.com\, search any of the above centers. We look forward to seeing you there!
X-ALT-DESC;FMTTYPE=text/html:There will be lunch provided\, sponsorship opportunities\, a hole-in-one contest to win a car from Midway Chevrolet\, a chance to win a trip for four to golf at Valentine&#39\;s renowned Prairie Club\, and tons of other prizes. If you need an excuse to take a Friday afternoon off while supporting an amazing cause\, this is the perfect time! Good Samaritan Society-Kearney encompasses St. Luke&#39\;s\, St. John&#39\;s\, and Prairie View Gardens\, home to over 150 residents and rehab/therapy patients. Help us reach our goal of $15\,000 to help provide these people with new equipment\, innovative activities\, and center updates! To register or more information\, call Courtney at 865-2650 or email chughba1@good-sam.com. Registration is also available online at www.good-sam.com\, search any of the above centers. We look forward to seeing you there!
LOCATION:Awarii Dunes 592 S. Rd Axtell\, NE 68924
UID:e.1404.6212
SEQUENCE:3
DTSTAMP:20260422T165455Z
URL:https://members.kearneycoc.org/events/details/good-samaritan-society-championship-series-golf-tournament-05-29-2015-6212
END:VEVENT

END:VCALENDAR
