BEGIN:VCALENDAR
VERSION:2.0
PRODID:-//ChamberMaster//Event Calendar 2.0//EN
METHOD:PUBLISH
X-PUBLISHED-TTL:P3D
REFRESH-INTERVAL:P3D
CALSCALE:GREGORIAN
BEGIN:VEVENT
DTSTART;VALUE=DATE:20220609
DTEND;VALUE=DATE:20220611
TRANSP:TRANSPARENT
X-MICROSOFT-CDO-ALLDAYEVENT:TRUE
SUMMARY:Grand Opening Mirror Image Car Wash
DESCRIPTION:Join Mirror Image Car Wash as they celebrate the Grand Opening of their South Mirror Image sites. \n\n \n\nThursday June 9th - Self-Service location @ 16th St and 2nd Ave- from Noon to 7 p.m.\n\n   Free Car Washes\n\n   Free Food and Drink - from 4 p.m. to 6 p.m.\, sponsored by NebraskaLand Bank\n\n   Live acoustic concert from 5 p.m to 6 p.m. - Tim Zach\n\n   Drawing to giveaway a brand new Kayak\n\n \n\nFriday June 10th - Express location @ 13th St and 2nd Ave - from 8 a.m. to 7 p.m.\n\n  Free Car Washes\n\n  Free Food and Drink - from Noon to 2 p.m.\, sponsored by NebraskaLand Bank\n\n  Drawing to giveaway a brand new Kayak\n\n \n\n* FREE washes at both South Kearney locations throughout both days Thursday and Friday.\n\n* AND sign up that day for a wash membership and get your 1st month FREE.\n\n \n\nMirror Image will be revealing our New Wash Menu\, featuring a brand new top Wash Package:\n\nShow-N-Shine Ceramic - Ceramic Seal is much better and longer lasting than any wax.  \n\nStay tuned to see what else we have coming:  \n\nNew menu\, New locations\, New pricing\, New offers\, check us out June 9th and 10th
X-ALT-DESC;FMTTYPE=text/html:Join Mirror Image Car Wash as they celebrate the&nbsp\;<span style="font-family:arial\,sans-serif\;">Grand Opening of their South&nbsp\;Mirror Image</span>&nbsp\;sites.&nbsp\;<br />\n&nbsp\;<br />\n<strong>Thursday June 9th -&nbsp\;</strong><strong><span style="font-family:arial\,sans-serif\;">Self-Service location @ 16th&nbsp\;St&nbsp\;</span>and 2nd Ave- from Noon to 7 p.m.</strong><br />\n&nbsp\; &nbsp\;Free Car Washes<br />\n&nbsp\; &nbsp\;Free Food and Drink - from 4 p.m. to 6 p.m.\, sponsored&nbsp\;by NebraskaLand Bank<br />\n&nbsp\; &nbsp\;Live acoustic concert from 5 p.m to 6 p.m. - Tim Zach<br />\n&nbsp\; &nbsp\;Drawing to giveaway a brand new Kayak<br />\n&nbsp\;<br />\n<strong>Friday June 10th -&nbsp\;</strong><strong><span style="font-family:arial\,sans-serif\;">Express location @ 13th&nbsp\;St</span>&nbsp\;and 2nd Ave&nbsp\;- from 8 a.m. to 7 p.m.</strong><br />\n&nbsp\; Free Car Washes<br />\n&nbsp\; Free Food and Drink - from Noon to 2 p.m.\, sponsored by NebraskaLand Bank<br />\n&nbsp\; Drawing to giveaway&nbsp\;a brand new Kayak<br />\n&nbsp\;<br />\n<strong><span style="font-family:arial\,sans-serif\;">* FREE</span>&nbsp\;washes at both South Kearney locations&nbsp\;throughout both days Thursday and Friday.</strong><br />\n<strong><span style="font-family:arial\,sans-serif\;">* AND sign up that day for a wash membership and get your 1st month FREE.</span></strong><br />\n&nbsp\;<br />\n<span style="font-family:arial\,sans-serif\;">Mirror Image will be revealing our New Wash Menu\, featuring a brand new top Wash Package:</span><br />\n<strong><span style="font-family:arial\,sans-serif\;">Show-N-Shine Ceramic - Ceramic Seal is much better and longer lasting than any wax.&nbsp\;&nbsp\;</span></strong><br />\n<span style="font-family:arial\,sans-serif\;">Stay tuned to see what else we have coming:&nbsp\;&nbsp\;</span><br />\n<span style="font-family:arial\,sans-serif\;">New menu\, New locations\, New pricing\, New offers\, check us out June 9th and 10th&nbsp\;</span><br />\n&nbsp\;
LOCATION:1215 2nd Ave - South Kearney Express 1518 2nd Ave - South Kearney
UID:e.1404.19955
SEQUENCE:3
DTSTAMP:20260423T103736Z
URL:https://members.kearneycoc.org/events/details/grand-opening-mirror-image-car-wash-19955
END:VEVENT

END:VCALENDAR
