BEGIN:VCALENDAR
VERSION:2.0
PRODID:-//ChamberMaster//Event Calendar 2.0//EN
METHOD:PUBLISH
X-PUBLISHED-TTL:P3D
REFRESH-INTERVAL:P3D
CALSCALE:GREGORIAN
BEGIN:VEVENT
DTSTART:20220610T130000Z
DTEND:20220611T000000Z
X-MICROSOFT-CDO-ALLDAYEVENT:FALSE
SUMMARY:Grand Opening Mirror Image Car Wash
DESCRIPTION:Grand Opening of Mirror Image Car Wash!  Free car washes at Kearney South and South Express locations!  Enter to win a chance to win a kayak and enjoy free food and drinks!
X-ALT-DESC;FMTTYPE=text/html:<span style="background:white\;"><span style="color:#333333\;"><span style="font-family:arial\,sans-serif\;"><span style="font-size:10.0pt\;">Grand Opening of Mirror Image Car Wash!&nbsp\; Free car washes at Kearney South and South Express locations!&nbsp\; Enter to win a chance to win a kayak and enjoy free food and drinks!</span></span></span></span>
LOCATION:1215 2nd Ave - South Kearney Express 1518 2nd Ave - South Kearney
UID:e.1404.19956
SEQUENCE:3
DTSTAMP:20260423T101223Z
URL:https://members.kearneycoc.org/events/details/grand-opening-mirror-image-car-wash-19956
END:VEVENT

END:VCALENDAR
