BEGIN:VCALENDAR
VERSION:2.0
PRODID:-//ChamberMaster//Event Calendar 2.0//EN
METHOD:PUBLISH
X-PUBLISHED-TTL:P3D
REFRESH-INTERVAL:P3D
CALSCALE:GREGORIAN
BEGIN:VEVENT
DTSTART:20141202T220000Z
DTEND:20141202T223000Z
X-MICROSOFT-CDO-ALLDAYEVENT:FALSE
SUMMARY:Grand ReOpening-Platte Valley Communications
DESCRIPTION:Join Platte Valley Communications for a Grand ReOpening.  Stop in and see their fresh new look and see what "Better" wireless services they are now offering!
X-ALT-DESC;FMTTYPE=text/html:<span style="font-family:times new roman\,serif\;"><span style="font-size:12.0pt\;">Join Platte Valley Communications for a Grand ReOpening.&nbsp\; Stop in and see their fresh new look and see what &quot\;Better&quot\; wireless services they are now offering!</span></span>
LOCATION:808 East 25th St
UID:e.1404.5368
SEQUENCE:3
DTSTAMP:20260423T020747Z
URL:https://members.kearneycoc.org/events/details/grand-reopening-platte-valley-communications-12-02-2014-5368
END:VEVENT

END:VCALENDAR
