BEGIN:VCALENDAR
VERSION:2.0
PRODID:-//ChamberMaster//Event Calendar 2.0//EN
METHOD:PUBLISH
X-PUBLISHED-TTL:P3D
REFRESH-INTERVAL:P3D
CALSCALE:GREGORIAN
BEGIN:VEVENT
DTSTART:20130529T170000Z
DTEND:20130529T180000Z
X-MICROSOFT-CDO-ALLDAYEVENT:FALSE
SUMMARY:Ground Breaking Ceremony: Baldwin Filters New Distribution Center
DESCRIPTION:Baldwin Filters & CLARCOR cordially invite you to the official groundbreaking of the new Baldwin Filters Distribution Center.\n\n\n\nPlease join us in celebrating this importnant milestone in Baldwin's Global Growth!
X-ALT-DESC;FMTTYPE=text/html:Baldwin Filters &amp\; CLARCOR cordially invite you to the official groundbreaking of the new Baldwin Filters Distribution Center.<br />\n<br />\nPlease join us in celebrating this importnant milestone in Baldwin&#39\;s Global Growth!
LOCATION:
UID:e.1404.2482
SEQUENCE:3
DTSTAMP:20260424T103934Z
URL:https://members.kearneycoc.org/events/details/ground-breaking-ceremony-baldwin-filters-new-distribution-center-05-29-2013-2482
END:VEVENT

END:VCALENDAR
