BEGIN:VCALENDAR
VERSION:2.0
PRODID:-//ChamberMaster//Event Calendar 2.0//EN
METHOD:PUBLISH
X-PUBLISHED-TTL:P3D
REFRESH-INTERVAL:P3D
CALSCALE:GREGORIAN
BEGIN:VEVENT
DTSTART:20130508T220000Z
DTEND:20130508T230000Z
X-MICROSOFT-CDO-ALLDAYEVENT:FALSE
SUMMARY:Ground Breaking Ceremony: BD Construction: Medical Office Building for the Kearney Regional Medical Center
DESCRIPTION:Join the Kearney Chamber and B-D Construction for a ceremonial ground breaking for the new medical office building on the Kearney Regional Medical Center Campus.  Following the ground breaking\, tours of the Kearney Regional Medical Center will be given.
X-ALT-DESC;FMTTYPE=text/html:Join the Kearney Chamber and B-D Construction for a ceremonial ground breaking for the new medical office building on the Kearney Regional Medical Center Campus. &nbsp\;Following the ground breaking\, tours of the Kearney Regional Medical Center will be given.
LOCATION:West of Yanney Park on the Kearney Regional Medical Center Campus
UID:e.1404.3170
SEQUENCE:3
DTSTAMP:20260424T104239Z
URL:https://members.kearneycoc.org/events/details/ground-breaking-ceremony-bd-construction-medical-office-building-for-the-kearney-regional-medical-center-05-08-2013-3170
END:VEVENT

END:VCALENDAR
