BEGIN:VCALENDAR
VERSION:2.0
PRODID:-//ChamberMaster//Event Calendar 2.0//EN
METHOD:PUBLISH
X-PUBLISHED-TTL:P3D
REFRESH-INTERVAL:P3D
CALSCALE:GREGORIAN
BEGIN:VEVENT
DTSTART:20130806T220000Z
DTEND:20130806T230000Z
X-MICROSOFT-CDO-ALLDAYEVENT:FALSE
SUMMARY:Ground Breaking Ceremony: HyVee
DESCRIPTION:Join the Kearney Chamber and HyVee corporate for a ceremonial ground breaking at their new store location in north Kearney
X-ALT-DESC;FMTTYPE=text/html:Join the Kearney Chamber and HyVee corporate for a ceremonial ground breaking at their new store location in north Kearney
LOCATION:Please enter at the Northwest Corner of 2nd Ave & 52nd Street
UID:e.1404.3270
SEQUENCE:3
DTSTAMP:20260424T060642Z
URL:https://members.kearneycoc.org/events/details/ground-breaking-ceremony-hyvee-08-06-2013-3270
END:VEVENT

END:VCALENDAR
