BEGIN:VCALENDAR
VERSION:2.0
PRODID:-//ChamberMaster//Event Calendar 2.0//EN
METHOD:PUBLISH
X-PUBLISHED-TTL:P3D
REFRESH-INTERVAL:P3D
CALSCALE:GREGORIAN
BEGIN:VEVENT
DTSTART:20120731T150000Z
DTEND:20120731T160000Z
X-MICROSOFT-CDO-ALLDAYEVENT:FALSE
SUMMARY:Ground Breaking Ceremony RYDE Transit Transportation Facility
DESCRIPTION:Please join us Celebrating the Official\n\nGround Breaking of our New Transit Facility\n\nRefreshments Following the Ceremony at\n\nCommunity Action Partnership Administration Building\n\n16 West 11th Street\n\nKearney\, NE
X-ALT-DESC;FMTTYPE=text/html:Please join us Celebrating the Official<br />\nGround Breaking of our New Transit Facility<br />\nRefreshments Following the Ceremony at<br />\nCommunity Action Partnership Administration Building<br />\n16 West 11th Street<br />\nKearney\, NE
LOCATION:715 East 11th Street Kearney\, Nebraska
UID:e.1404.1959
SEQUENCE:3
DTSTAMP:20260425T033059Z
URL:https://members.kearneycoc.org/events/details/ground-breaking-ceremony-ryde-transit-transportation-facility-07-31-2012-1959
END:VEVENT

END:VCALENDAR
