BEGIN:VCALENDAR
VERSION:2.0
PRODID:-//ChamberMaster//Event Calendar 2.0//EN
METHOD:PUBLISH
X-PUBLISHED-TTL:P3D
REFRESH-INTERVAL:P3D
CALSCALE:GREGORIAN
BEGIN:VEVENT
DTSTART:20220511T150000Z
DTEND:20220511T160000Z
X-MICROSOFT-CDO-ALLDAYEVENT:FALSE
SUMMARY:Ground Breaking - Kearney Family YMCA Expansion
DESCRIPTION:Join us for a Ground Breaking ceremony to celebrate the expansion of the Kearney Family YMCA!
X-ALT-DESC;FMTTYPE=text/html:Join us for a Ground Breaking ceremony to celebrate the expansion of the Kearney Family YMCA!
LOCATION:Kearney Family YMCA 4500 6th Ave. Kearney\, NE 68845
UID:e.1404.19668
SEQUENCE:3
DTSTAMP:20260423T113949Z
URL:https://members.kearneycoc.org/events/details/ground-breaking-kearney-family-ymca-expansion-19668
END:VEVENT

END:VCALENDAR
