BEGIN:VCALENDAR
VERSION:2.0
PRODID:-//ChamberMaster//Event Calendar 2.0//EN
METHOD:PUBLISH
X-PUBLISHED-TTL:P3D
REFRESH-INTERVAL:P3D
CALSCALE:GREGORIAN
BEGIN:VEVENT
DTSTART:20160421T160000Z
DTEND:20160421T164500Z
X-MICROSOFT-CDO-ALLDAYEVENT:FALSE
SUMMARY:Groundbreaking: Central Community College
DESCRIPTION:Join us for a Groundbreaking Ceremony for Central Community College.
X-ALT-DESC;FMTTYPE=text/html:Join us for a Groundbreaking Ceremony for Central Community College.
LOCATION:LOCATION UPDATE Buckle Dustribution Center-South Parking Lot 30th Ave. & W 16th St
UID:e.1404.8555
SEQUENCE:3
DTSTAMP:20260421T233849Z
URL:https://members.kearneycoc.org/events/details/groundbreaking-central-community-college-04-21-2016-8555
END:VEVENT

END:VCALENDAR
