BEGIN:VCALENDAR
VERSION:2.0
PRODID:-//ChamberMaster//Event Calendar 2.0//EN
METHOD:PUBLISH
X-PUBLISHED-TTL:P3D
REFRESH-INTERVAL:P3D
CALSCALE:GREGORIAN
BEGIN:VEVENT
DTSTART:20150511T160000Z
DTEND:20150511T163000Z
X-MICROSOFT-CDO-ALLDAYEVENT:FALSE
SUMMARY:Groundbreaking Ceremony-Credit Management
DESCRIPTION:Credit management announces new Kearney office\n\nCredit Management Services\, Inc. announced that it will expand operations in Kearney\, NE. with the opening of a new 5\,000 square foot office located west of their current location on W 48th Street. Our Kearney office is a call center for the company\, along with our Lincoln and Grand Island locations.\n\nWith the expansion\, we will be able to employ up to 50 people. Our current location has increased staff from 7 Account Associates in January 2014 to 21 Account Associates currently.  "We feel the expansion of our Kearney office is a great opportunity for our company\," said Jason Morledge\, President.  "Not only does it allow us to service our clients in Central and Western Nebraska better\, but it also allows us to tap into a good labor pool and further develop our employment base." \n\nCredit Management Services\, Inc. is a Grand Island\, NE based account recovery firm\, which specializes in healthcare\, bank and retail receivables\, which was established in 1926. The company is now a regional agency with over 1\,700 clients across the Midwest including over half the hospitals in Nebraska.  Today the company has three locations Grand Island\, Lincoln and Kearney and has 180 employees.  For more information about the company\, visit their website at www.credit-mgmt.com.
X-ALT-DESC;FMTTYPE=text/html:<span style="font-family:times new roman\,serif\;">Credit management announces <st1:stockticker w:st="on">new</st1:stockticker> Kearney office</span><br />\n<span style="font-family:times new roman\,serif\;"><span style="font-size:11.0pt\;">Credit Management Services\, Inc. announced that it will expand operations in Kearney\, NE. with the opening of a new 5\,000 square foot office located west of their current location on W 48<sup>th</sup> Street. Our Kearney office is a call center for the company\, along with our Lincoln and Grand Island locations.</span></span><br />\n<span style="font-family:times new roman\,serif\;"><span style="font-size:11.0pt\;">With the expansion\, we will be able to employ up to 50 people. Our current location has increased staff from 7 Account Associates in January 2014 to 21 Account Associates currently.&nbsp\; &ldquo\;We feel the expansion of our Kearney office is a great opportunity for our company\,&rdquo\; said Jason Morledge\, President.&nbsp\; &ldquo\;Not only does it allow us to service our clients in Central and Western Nebraska better\, but it also allows us to tap into a good labor pool and further develop our employment base.&rdquo\; </span></span><br />\n<span style="font-family:times new roman\,serif\;"><span style="font-size:11.0pt\;">Credit Management Services\, Inc. is a Grand Island\, NE based account recovery firm\, which specializes in healthcare\, bank and retail receivables\, which was established in 1926. The company is now a regional agency with over 1\,700 clients across the Midwest including over half the hospitals in Nebraska.&nbsp\; Today the company has three locations Grand Island\, Lincoln and Kearney and has 180 employees.&nbsp\; For more information about the company\, visit their website at www.credit-mgmt.com.</span></span><br />\n&nbsp\;
LOCATION:W 48th Street Just west of current location at 412 W 48th Street
UID:e.1404.6239
SEQUENCE:3
DTSTAMP:20260422T165313Z
URL:https://members.kearneycoc.org/events/details/groundbreaking-ceremony-credit-management-05-11-2015-6239
END:VEVENT

END:VCALENDAR
