BEGIN:VCALENDAR
VERSION:2.0
PRODID:-//ChamberMaster//Event Calendar 2.0//EN
METHOD:PUBLISH
X-PUBLISHED-TTL:P3D
REFRESH-INTERVAL:P3D
CALSCALE:GREGORIAN
BEGIN:VEVENT
DTSTART:20150320T170000Z
DTEND:20150320T173000Z
X-MICROSOFT-CDO-ALLDAYEVENT:FALSE
SUMMARY:Groundbreaking Ceremony-Habitat for Humanity
DESCRIPTION:Please join a ground breaking ceremony on Habitat for Humanity's new subdivision at 17th & M. The subdivision will be known as the Marlatt Subdivision in honor of Jerry and Edith Marlatt who have been faithful volunteers since 1992.\n\nThe infrastructure is already complete and paving will begin soon. Eventually there will be 22 Habitat houses built on this property.
X-ALT-DESC;FMTTYPE=text/html:<span style="color: rgb(102\, 102\, 102)\; font-family: Helvetica\, Arial\, 'lucida grande'\, tahoma\, verdana\, arial\, sans-serif\; font-size: 12px\; line-height: 16.0799999237061px\; background-color: rgb(255\, 255\, 255)\;">Please join&nbsp\;a ground breaking&nbsp\;ceremony&nbsp\;on Habitat for Humanity&#39\;s new subdivision at 17th &amp\; M. The s</span><span class="text_exposed_show" style="display: inline\; color: rgb(102\, 102\, 102)\; font-family: Helvetica\, Arial\, 'lucida grande'\, tahoma\, verdana\, arial\, sans-serif\; font-size: 12px\; line-height: 16.0799999237061px\; background-color: rgb(255\, 255\, 255)\;">ubdivision will be known as the Marlatt Subdivision in honor of Jerry and Edith Marlatt who have been faithful volunteers since 1992.<br />\nThe infrastructure is already complete and paving will begin soon. Eventually there will be 22 Habitat houses built on this property.</span>
LOCATION:17th and M
UID:e.1404.6146
SEQUENCE:3
DTSTAMP:20260422T200059Z
URL:https://members.kearneycoc.org/events/details/groundbreaking-ceremony-habitat-for-humanity-03-20-2015-6146
END:VEVENT

END:VCALENDAR
