BEGIN:VCALENDAR
VERSION:2.0
PRODID:-//ChamberMaster//Event Calendar 2.0//EN
METHOD:PUBLISH
X-PUBLISHED-TTL:P3D
REFRESH-INTERVAL:P3D
CALSCALE:GREGORIAN
BEGIN:VEVENT
DTSTART:20151028T190000Z
DTEND:20151028T200000Z
X-MICROSOFT-CDO-ALLDAYEVENT:FALSE
SUMMARY:Groundbreaking Ceremony: Kearney Regional Medical Center
DESCRIPTION:Join us in a Groundbreaking Ceremony for Kearney Regional Medical Center's new expansion project.
X-ALT-DESC;FMTTYPE=text/html:Join us in a Groundbreaking Ceremony for Kearney Regional Medical Center&#39\;s new expansion project.
LOCATION:804 22nd Avenue Southside of Hospital
UID:e.1404.7013
SEQUENCE:3
DTSTAMP:20260422T084150Z
URL:https://members.kearneycoc.org/events/details/groundbreaking-ceremony-kearney-regional-medical-center-10-28-2015-7013
END:VEVENT

END:VCALENDAR
