BEGIN:VCALENDAR
VERSION:2.0
PRODID:-//ChamberMaster//Event Calendar 2.0//EN
METHOD:PUBLISH
X-PUBLISHED-TTL:P3D
REFRESH-INTERVAL:P3D
CALSCALE:GREGORIAN
BEGIN:VEVENT
DTSTART:20140701T220000Z
DTEND:20140701T230000Z
X-MICROSOFT-CDO-ALLDAYEVENT:FALSE
SUMMARY:Groundbreaking Ceremony-NebraskaLand Bank
DESCRIPTION:Groundbreaking Ceremony for the new NebraskaLand National Bank
X-ALT-DESC;FMTTYPE=text/html:&nbsp\;Groundbreaking Ceremony for the new NebraskaLand National Bank
LOCATION:46th Street and 2nd Avenue
UID:e.1404.4881
SEQUENCE:3
DTSTAMP:20260423T101500Z
URL:https://members.kearneycoc.org/events/details/groundbreaking-ceremony-nebraskaland-bank-07-01-2014-4881
END:VEVENT

END:VCALENDAR
