BEGIN:VCALENDAR
VERSION:2.0
PRODID:-//ChamberMaster//Event Calendar 2.0//EN
METHOD:PUBLISH
X-PUBLISHED-TTL:P3D
REFRESH-INTERVAL:P3D
CALSCALE:GREGORIAN
BEGIN:VEVENT
DTSTART:20160428T141500Z
DTEND:20160428T150000Z
X-MICROSOFT-CDO-ALLDAYEVENT:FALSE
SUMMARY:Groundbreaking - Kearney Catholic Classroom Addition
DESCRIPTION:Through generous donations to the Moving Forward in Faith Phase II capital campaign\, KCHS will begin their expansion and renovation project for a larger learning environment for Kearney Catholic students.
X-ALT-DESC;FMTTYPE=text/html:Through generous donations to the Moving Forward in Faith Phase II capital campaign\, KCHS will begin their expansion and renovation project for a larger learning environment for Kearney Catholic students.
LOCATION:110 East 35th Street
UID:e.1404.8719
SEQUENCE:3
DTSTAMP:20260421T234004Z
URL:https://members.kearneycoc.org/events/details/groundbreaking-kearney-catholic-classroom-addition-04-28-2016-8719
END:VEVENT

END:VCALENDAR
