BEGIN:VCALENDAR
VERSION:2.0
PRODID:-//ChamberMaster//Event Calendar 2.0//EN
METHOD:PUBLISH
X-PUBLISHED-TTL:P3D
REFRESH-INTERVAL:P3D
CALSCALE:GREGORIAN
BEGIN:VEVENT
DTSTART:20161020T170000Z
DTEND:20161020T180000Z
X-MICROSOFT-CDO-ALLDAYEVENT:FALSE
SUMMARY:GROW Nebraska FREE T3 Training
DESCRIPTION:Understand Your Customers - Sell and Ship in New Ways\n\n\n\nDo you understand e-Commerce and m-Commerce? Do you know how these relate to growth for your business in our current economy?  Christopher Steel\, Sales Executive with FedEx Services\, will share his insights on these important elements during the October Third Thursday Training. \n\nRegister now and save the date on your calendar .. October 20 at noon (CT).  Registration is required to receive connection information. \n\nThe trainings are free\, open to the public\, and you can participate from any location where you have phone service. \n\n \n\nThis month's training is sponsored by GROW Nebraska\, FedEx\, and funds provided by the Local Food Promotion Program of the Agricultural Marketing Service\, U.S. Department of Agriculture.\n\nEach month GROW Nebraska features a different presenter and topic related to marketing or small business on our call-in format Third Thursday  Trainings (T3).  Visit www.grownebraska.org for information on future training dates and topics.
X-ALT-DESC;FMTTYPE=text/html:<p><strong><span style="font-size:22px">Understand Your Customers - Sell and Ship in New Ways</span></strong><br />\n<br />\n<span style="font-size:14pt">Do you understand e-Commerce and m-Commerce? Do you know how these relate to growth for your business in our current economy?&nbsp\; Christopher Steel\, Sales Executive with FedEx Services\, will share his insights on these important elements during the October Third Thursday Training.&nbsp\;</span></p>\n\n<p><span style="font-size:14pt"><a href="https://events.r20.constantcontact.com/register/eventReg?oeidk=a07ed7oah0wd5845356&amp\;oseq=&amp\;c=&amp\;ch=">Register now</a>&nbsp\;and save the date on your calendar&hellip\;..&nbsp\;<strong>October 20&nbsp\;</strong>at noon (CT).&nbsp\; Registration is required&nbsp\;to receive connection information.&nbsp\;</span></p>\n\n<p><span style="font-size:14pt"><strong>The trainings are</strong><strong>&nbsp\;free\, open to the&nbsp\;</strong><strong>public\, and you can participate from any location where you have phone service.</strong>&nbsp\;</span><br />\n&nbsp\;</p>\n\n<p><span style="font-size:14px">This month&#39\;s training is sponsored by GROW Nebraska\, FedEx\, and funds provided by the Local Food Promotion Program of the Agricultural Marketing Service\, U.S. Department of Agriculture.</span></p>\n\n<p><span style="font-size:14pt"><span style="font-size:14px"><strong>Each month GROW Nebraska features a different presenter and topic related to marketing or small business on our call-in format Third&nbsp\;</strong><strong>Thursday</strong><strong>&nbsp\; T</strong><strong>rainings (T3).&nbsp\;&nbsp\;</strong>Visit www.grownebraska.org for information on future training dates and topics.&nbsp\;&nbsp\;</span><strong>&nbsp\;</strong></span></p>\n
LOCATION:Call-in format
UID:e.1404.9064
SEQUENCE:3
DTSTAMP:20260421T122633Z
URL:https://members.kearneycoc.org/events/details/grow-nebraska-free-t3-training-9064
END:VEVENT

END:VCALENDAR
