BEGIN:VCALENDAR
VERSION:2.0
PRODID:-//ChamberMaster//Event Calendar 2.0//EN
METHOD:PUBLISH
X-PUBLISHED-TTL:P3D
REFRESH-INTERVAL:P3D
CALSCALE:GREGORIAN
BEGIN:VEVENT
DTSTART:20161117T180000Z
DTEND:20161117T190000Z
X-MICROSOFT-CDO-ALLDAYEVENT:FALSE
SUMMARY:GROW Nebraska's FREE T3 Training
DESCRIPTION:Do you have a storefront? Do you want more customers coming through your door? Join us for this FREE training from the Nebraska Retail Federation about why it's so important that we shop in stores and how we can bring more customers in. Register today for the November Third Thursday Training on November 17 at noon (CST). Registration is required to receive connection information.\n\nThis training is free\, open to the public\, and you can participate from any location where you have phone service.\n\nThis month's training is sponsored by GROW Nebraska\, the Nebraska Retail Federation\, and funds provided by the Local Food Promotion Program of the Agricultural Marketing Service\, U.S. Department of Agriculture.
X-ALT-DESC;FMTTYPE=text/html:<p>Do you have a storefront? Do you want more customers coming through your door? Join us for this FREE training from the Nebraska Retail Federation about why it&#39\;s so important that we shop in stores and how we can bring more customers in.&nbsp\;Register today for the November Third Thursday Training on&nbsp\;<strong>November 17</strong>&nbsp\;at noon (CST). Registration is required to receive connection information.</p>\n\n<p><strong>This training is&nbsp\;</strong><strong>free\, open to the&nbsp\;</strong><strong>public\, and you can participate from any location where you have phone service.</strong></p>\n\n<p>This month&#39\;s training is sponsored by GROW Nebraska\, the Nebraska Retail Federation\, and funds provided by the Local Food Promotion Program of the Agricultural Marketing Service\, U.S. Department of Agriculture.&nbsp\;</p>\n
LOCATION:Call-In Format
UID:e.1404.9095
SEQUENCE:3
DTSTAMP:20260421T104210Z
URL:https://members.kearneycoc.org/events/details/grow-nebraska-s-free-t3-training-9095
END:VEVENT

END:VCALENDAR
