BEGIN:VCALENDAR
VERSION:2.0
PRODID:-//ChamberMaster//Event Calendar 2.0//EN
METHOD:PUBLISH
X-PUBLISHED-TTL:P3D
REFRESH-INTERVAL:P3D
CALSCALE:GREGORIAN
BEGIN:VEVENT
DTSTART;VALUE=DATE:20150328
DTEND;VALUE=DATE:20150329
TRANSP:TRANSPARENT
X-MICROSOFT-CDO-ALLDAYEVENT:TRUE
SUMMARY:Habitat for Humanity Volunteer Day
DESCRIPTION:Members have the opportunity to either donate food or help serve the meals.
X-ALT-DESC;FMTTYPE=text/html:Members have the opportunity to either donate food or help serve the meals.
LOCATION:
UID:e.1404.6188
SEQUENCE:3
DTSTAMP:20260422T200255Z
URL:https://members.kearneycoc.org/events/details/habitat-for-humanity-volunteer-day-03-28-2015-6188
END:VEVENT

END:VCALENDAR
