BEGIN:VCALENDAR
VERSION:2.0
PRODID:-//ChamberMaster//Event Calendar 2.0//EN
METHOD:PUBLISH
X-PUBLISHED-TTL:P3D
REFRESH-INTERVAL:P3D
CALSCALE:GREGORIAN
BEGIN:VEVENT
DTSTART:20160820T160000Z
DTEND:20160820T190000Z
X-MICROSOFT-CDO-ALLDAYEVENT:FALSE
SUMMARY:Hallmark University: Last Bash Before Class
DESCRIPTION:On August 20th from 11-2pm join Amy's Hallmark and the KHS Cheerleaders for the Last Bash Before Class Event at the Hilltop Mall. This event will include free face painting by KHS Cheerleaders with any purchase\, "Prize Pop" with any donation to KHS Cheerleaders\, "Spin to Win" with any purchase of $5 or more\, a FREE Vera Bradley Lanyard with a Vera Bradley Purchase\, and much more! Come join in the fun and shop for back to school fun at Amy's Hallmark! http://shophilltopmall.com/EventsPromotions/MallEvents/tabid/67/ModuleID/1274/ItemID/6184/mctl/EventDetails/Default.aspx
X-ALT-DESC;FMTTYPE=text/html:On August 20th from 11-2pm join Amy&rsquo\;s Hallmark and the KHS Cheerleaders for the Last Bash Before Class Event at the Hilltop Mall. This event will include free face painting by KHS Cheerleaders with any purchase\, &ldquo\;Prize Pop&rdquo\; with any donation to KHS Cheerleaders\, &ldquo\;Spin to Win&rdquo\; with any purchase of $5 or more\, a FREE Vera Bradley Lanyard with a Vera Bradley Purchase\, and much more! Come join in the fun and shop for back to school fun at Amy&rsquo\;s Hallmark! http://shophilltopmall.com/EventsPromotions/MallEvents/tabid/67/ModuleID/1274/ItemID/6184/mctl/EventDetails/Default.aspx
LOCATION:Hilltop Mall
UID:e.1404.8983
SEQUENCE:3
DTSTAMP:20260421T152845Z
URL:https://members.kearneycoc.org/events/details/hallmark-university-last-bash-before-class-08-20-2016-8983
END:VEVENT

END:VCALENDAR
