BEGIN:VCALENDAR
VERSION:2.0
PRODID:-//ChamberMaster//Event Calendar 2.0//EN
METHOD:PUBLISH
X-PUBLISHED-TTL:P3D
REFRESH-INTERVAL:P3D
CALSCALE:GREGORIAN
BEGIN:VEVENT
DTSTART:20191031T230000Z
DTEND:20191101T010000Z
X-MICROSOFT-CDO-ALLDAYEVENT:FALSE
SUMMARY:Halloween at the Hilltop Mall
DESCRIPTION:Join us for trick or treating and various activities including a costume contest\, Halloween photos\, witches ring toss\, witch bowling\, mummy pong\, and giant checkers. A huge thank you to our candy sponsor the Elks club!
X-ALT-DESC;FMTTYPE=text/html:Join us for trick or treating and various activities including a costume contest\, Halloween photos\, witches ring toss\, witch bowling\, mummy pong\, and giant checkers. A huge thank you to our candy sponsor the Elks club!
LOCATION:Hilltop Mall
UID:e.1404.18146
SEQUENCE:3
DTSTAMP:20260425T164122Z
URL:https://members.kearneycoc.org/events/details/halloween-at-the-hilltop-mall-18146
END:VEVENT

END:VCALENDAR
