BEGIN:VCALENDAR
VERSION:2.0
PRODID:-//ChamberMaster//Event Calendar 2.0//EN
METHOD:PUBLISH
X-PUBLISHED-TTL:P3D
REFRESH-INTERVAL:P3D
CALSCALE:GREGORIAN
BEGIN:VEVENT
DTSTART;VALUE=DATE:20191026
DTEND;VALUE=DATE:20191027
TRANSP:TRANSPARENT
X-MICROSOFT-CDO-ALLDAYEVENT:TRUE
SUMMARY:Halloween Celebration at Fort Kearny
DESCRIPTION:Wear your spookiest costume and join us at Fort Kearny State Recreation Area for ghoulishly fun events! It begins at 10:30 am with  the "Addams Family Goes Camping" program with naturalist Kathleen. At 12:00 pm enjoy wagon rides through the park. At 12:30 there will be cupcake decorating and at 2:00 pm pumpkin carving. Costume judging begins at 4:00 pm with trick or treating beginning at 5:00 pm. Camper decorations will be judged at 8:30 pm.\n\nPark entry permit required.
X-ALT-DESC;FMTTYPE=text/html:<p style="box-sizing: border-box\; border: 0px\; margin: 0px 0px 15px\; padding: 0px\; color: rgb(79\, 77\, 69)\; font-size: 16px\; line-height: 30px\; font-family: &quot\;Open Sans&quot\;\;">Wear your spookiest costume and join us at Fort Kearny State Recreation Area for ghoulishly fun events! It begins at 10:30 am with&nbsp\; the &ldquo\;Addams Family Goes Camping&rdquo\; program with naturalist Kathleen. At 12:00 pm enjoy wagon rides through the park. At 12:30 there will be cupcake decorating and at 2:00 pm pumpkin carving. Costume judging begins at 4:00 pm with trick or treating beginning at 5:00 pm. Camper decorations will be judged at 8:30 pm.</p>\n\n<p style="box-sizing: border-box\; border: 0px\; margin: 0px 0px 15px\; padding: 0px\; color: rgb(79\, 77\, 69)\; font-size: 16px\; line-height: 30px\; font-family: &quot\;Open Sans&quot\;\;">Park entry permit required.</p>\n
LOCATION:Fort Kearny State Park 1020 V Road Kearney\, NE 68847
UID:e.1404.18243
SEQUENCE:3
DTSTAMP:20260425T164030Z
URL:https://members.kearneycoc.org/events/details/halloween-celebration-at-fort-kearny-18243
END:VEVENT

END:VCALENDAR
