BEGIN:VCALENDAR
VERSION:2.0
PRODID:-//ChamberMaster//Event Calendar 2.0//EN
METHOD:PUBLISH
X-PUBLISHED-TTL:P3D
REFRESH-INTERVAL:P3D
CALSCALE:GREGORIAN
BEGIN:VEVENT
DTSTART:20211024T190000Z
DTEND:20211024T220000Z
X-MICROSOFT-CDO-ALLDAYEVENT:FALSE
SUMMARY:Halloween Fest at the Archway
DESCRIPTION:HALLOWEEN FEST 2021\n\nJoin us for a family-friendly afternoon packed with Halloween fun!\n\n	Take the I-Spy Hayrack Ride\n	Paint a funny face on a pumpkin\n	Conquer the Haunted Obstacle Course\n	Try your hand at Creepy Carnival Games\n	Blackout at Bogeyman Bingo\n	Play at Pumpkin Bowling\n	Do the Monster Mash with the Shockitanos\n	Find your favorite in our Spooky Scarecrow Competition\n	And\, guess the number of candy corns in our Witch's Caldron and the weight of our Great Pumpkin.\n\nCostumes are encouraged! \n\n\n\nBe sure to check the Archway's website at www.archway.org for more great activities at the Archway!
X-ALT-DESC;FMTTYPE=text/html:<br />\n<span courier="" style="font-family: "><span style="font-size: 16px\;">HALLOWEEN FEST 2021</span><br />\n<span style="font-size:14px\;">Join us for a family-friendly afternoon packed with Halloween fun!</span></span>\n<ul>\n	<li><span style="font-size:14px\;"><span courier="">Take the I-Spy Hayrack Ride</span></span></li>\n	<li><span style="font-size:14px\;"><span courier="">Paint a funny face on a pumpkin</span></span></li>\n	<li><span style="font-size:14px\;"><span courier="">Conquer the Haunted Obstacle Course</span></span></li>\n	<li><span style="font-size:14px\;"><span courier="">Try your hand at Creepy Carnival Games</span></span></li>\n	<li><span style="font-size:14px\;"><span courier="">Blackout at Bogeyman Bingo</span></span></li>\n	<li><span style="font-size:14px\;"><span courier="">Play at Pumpkin Bowling</span></span></li>\n	<li><span style="font-size:14px\;"><span courier="">Do the Monster Mash with the Shockitanos</span></span></li>\n	<li><span style="font-size:14px\;"><span courier="">Find your favorite in our Spooky Scarecrow Competition</span></span></li>\n	<li><span style="font-size:14px\;"><span courier="">And\, guess the number of candy corns in our Witch&#39\;s Caldron and the weight of our Great Pumpkin.</span></span></li>\n</ul>\n<span courier="" style="font-family: "><span style="font-size:16px\;">Costumes are encouraged!&nbsp\;<br />\n<br />\n<em><span style="font-size:12px\;">Be sure to check the Archway&#39\;s website at www.archway.org for more great activities at the Archway!</span></em></span></span><br />\n&nbsp\;
LOCATION:The Archway\, Kearney NE
UID:e.1404.19402
SEQUENCE:3
DTSTAMP:20260423T232707Z
URL:https://members.kearneycoc.org/events/details/halloween-fest-at-the-archway-19402
END:VEVENT

END:VCALENDAR
