BEGIN:VCALENDAR
VERSION:2.0
PRODID:-//ChamberMaster//Event Calendar 2.0//EN
METHOD:PUBLISH
X-PUBLISHED-TTL:P3D
REFRESH-INTERVAL:P3D
CALSCALE:GREGORIAN
BEGIN:VEVENT
DTSTART:20191031T153000Z
DTEND:20191031T193000Z
X-MICROSOFT-CDO-ALLDAYEVENT:FALSE
SUMMARY:Halloween Trick or Treat
DESCRIPTION:A Spooktacular Ballocity activity for the children under 13 years of age. Come in a fun safe costume and be eligible to win a prize. Each child can trick or treat on the way out the door. We will also have hot dogs and lemonade on sale for $1 each. Tax is not included and adult supervision required.
X-ALT-DESC;FMTTYPE=text/html:A Spooktacular Ballocity activity for the children under 13 years of age. Come in a fun safe costume and be eligible to win a prize. Each child can trick or treat on the way out the door. We will also have hot dogs and lemonade on sale for $1 each. Tax is not included and adult supervision required.
LOCATION:Big Apple Fun Center 500 W 4th Street Kearney
UID:e.1404.18199
SEQUENCE:3
DTSTAMP:20260425T163959Z
URL:https://members.kearneycoc.org/events/details/halloween-trick-or-treat-18199
END:VEVENT

END:VCALENDAR
