BEGIN:VCALENDAR
VERSION:2.0
PRODID:-//ChamberMaster//Event Calendar 2.0//EN
METHOD:PUBLISH
X-PUBLISHED-TTL:P3D
REFRESH-INTERVAL:P3D
CALSCALE:GREGORIAN
BEGIN:VEVENT
DTSTART:20220519T210000Z
DTEND:20220520T010000Z
X-MICROSOFT-CDO-ALLDAYEVENT:FALSE
SUMMARY:Happy Birthday KACM! Free Family Fun Night
DESCRIPTION:Join us for cake and special activities as we celebrate our 33rd birthday\, in honor of Alia Joy Arram!\n\nSponsored by ALLO Fiber
X-ALT-DESC;FMTTYPE=text/html:<strong>Join us for cake and special activities as we celebrate our 33rd birthday\, in honor of Alia Joy Arram!<br />\nSponsored by ALLO Fiber</strong>
LOCATION:Kearney Area Children's Museum 5827 4th Ave\, Kearney\, NE 68845
UID:e.1404.19686
SEQUENCE:3
DTSTAMP:20260423T114215Z
URL:https://members.kearneycoc.org/events/details/happy-birthday-kacm-free-family-fun-night-19686
END:VEVENT

END:VCALENDAR
