BEGIN:VCALENDAR
VERSION:2.0
PRODID:-//ChamberMaster//Event Calendar 2.0//EN
METHOD:PUBLISH
X-PUBLISHED-TTL:P3D
REFRESH-INTERVAL:P3D
CALSCALE:GREGORIAN
BEGIN:VEVENT
DTSTART:20190814T223000Z
DTEND:20190814T230000Z
X-MICROSOFT-CDO-ALLDAYEVENT:FALSE
SUMMARY:Harvey Park Pickleball Courts Ribbon Cutting Ceremony
DESCRIPTION:Join the City of Kearney for a Ribbon Cutting ceremony for Harvey Park Pickleball Courts. Refreshments will be served to celebrate the opening of this very special facility!
X-ALT-DESC;FMTTYPE=text/html:Join the City of Kearney for a Ribbon Cutting ceremony for Harvey Park Pickleball Courts. Refreshments will be served to celebrate the opening of this very special facility!
LOCATION:Harvey Park 4205 Ave I Kearney NE
UID:e.1404.16632
SEQUENCE:3
DTSTAMP:20260425T213251Z
URL:https://members.kearneycoc.org/events/details/harvey-park-pickleball-courts-ribbon-cutting-ceremony-16632
END:VEVENT

END:VCALENDAR
