BEGIN:VCALENDAR
VERSION:2.0
PRODID:-//ChamberMaster//Event Calendar 2.0//EN
METHOD:PUBLISH
X-PUBLISHED-TTL:P3D
REFRESH-INTERVAL:P3D
CALSCALE:GREGORIAN
BEGIN:VEVENT
DTSTART:20160303T190000Z
DTEND:20160303T230000Z
X-MICROSOFT-CDO-ALLDAYEVENT:FALSE
SUMMARY:Healthcare Law Forum
DESCRIPTION:We  invite  you  and  members  of  your  organization  to  attend  our  half day Healthcare  Law  Forum.  Credit  for  this  seminar  will  be  sought  from  the Nebraska and Iowa CLE Commissions\, the HR Certification Institute\, and the Nebraska  Board  of  Public  Accountancy.  An  invitation  and  registration information will be sent via email in January. \n\n\n\nFeatured Topics:\n\n	Board Governance and Compliance\n	HIPAA Check-Up\n	Top Ten Wage & Hour Law Mistakes Healthcare Employers Make\n	Lessons from Former Healthcare In-House Counsel\n	Critical Access Hospitals: Financial and Operating Indicator Trends\n	Medical Malpractice Primer\n	Open Panel Discussion: Stump the Lawyer
X-ALT-DESC;FMTTYPE=text/html:We &nbsp\;invite &nbsp\;you &nbsp\;and &nbsp\;members &nbsp\;of &nbsp\;your &nbsp\;organization &nbsp\;to &nbsp\;attend &nbsp\;our &nbsp\;half&shy\;day Healthcare &nbsp\;Law &nbsp\;Forum. &nbsp\;Credit &nbsp\;for &nbsp\;this &nbsp\;seminar &nbsp\;will &nbsp\;be &nbsp\;sought &nbsp\;from &nbsp\;the Nebraska and Iowa CLE Commissions\, the HR Certification Institute\, and the Nebraska &nbsp\;Board &nbsp\;of &nbsp\;Public &nbsp\;Accountancy. &nbsp\;An &nbsp\;invitation &nbsp\;and &nbsp\;registration information will be sent via email in January.&nbsp\;<br />\n<br />\nFeatured Topics:\n<ul>\n	<li>Board Governance and Compliance</li>\n	<li>HIPAA Check-Up</li>\n	<li>Top Ten Wage &amp\; Hour Law Mistakes Healthcare Employers Make</li>\n	<li>Lessons from Former Healthcare In-House Counsel</li>\n	<li>Critical Access Hospitals: Financial and Operating Indicator Trends</li>\n	<li>Medical Malpractice Primer</li>\n	<li>Open Panel Discussion: Stump the Lawyer</li>\n</ul>\n
LOCATION:Younes Conf. Center 416 W. Talmadge Rd.
UID:e.1404.7035
SEQUENCE:3
DTSTAMP:20260421T234134Z
URL:https://members.kearneycoc.org/events/details/healthcare-law-forum-03-03-2016-7035
END:VEVENT

END:VCALENDAR
