BEGIN:VCALENDAR
VERSION:2.0
PRODID:-//ChamberMaster//Event Calendar 2.0//EN
METHOD:PUBLISH
X-PUBLISHED-TTL:P3D
REFRESH-INTERVAL:P3D
CALSCALE:GREGORIAN
BEGIN:VEVENT
DTSTART:20160220T180000Z
DTEND:20160220T200000Z
X-MICROSOFT-CDO-ALLDAYEVENT:FALSE
SUMMARY:Heart and Sole Mall Walking Event
DESCRIPTION:Regular exercise is important for your heart?s health. Learn about heart health and walk the mall on Saturday February 20th. Representatives from Platte Valley Medical Group\, including a cardiologist\, will be in center court providing free blood pressure checks and answering your questions. Platte Valley Medical Group will be present from 12pm-2pm. Walkers are always welcome at Hilltop Mall\, even before the stores open. The mall is open for mall walkers Mon-Sat: 7:15-9:00pm\, and Sundays 7:15-6:00pm
X-ALT-DESC;FMTTYPE=text/html:Regular exercise is important for your heart?s health. Learn about heart health and walk the mall on Saturday February 20th. Representatives from Platte Valley Medical Group\, including a cardiologist\, will be in center court providing free blood pressure checks and answering your questions. Platte Valley Medical Group will be present from 12pm-2pm. Walkers are always welcome at Hilltop Mall\, even before the stores open. The mall is open for mall walkers Mon-Sat: 7:15-9:00pm\, and Sundays 7:15-6:00pm
LOCATION:Hilltop Mall 5011 2nd Ave Kearney\, NE 68847
UID:e.1404.7519
SEQUENCE:3
DTSTAMP:20260422T012147Z
URL:https://members.kearneycoc.org/events/details/heart-and-sole-mall-walking-event-02-20-2016-7519
END:VEVENT

END:VCALENDAR
