BEGIN:VCALENDAR
VERSION:2.0
PRODID:-//ChamberMaster//Event Calendar 2.0//EN
METHOD:PUBLISH
X-PUBLISHED-TTL:P3D
REFRESH-INTERVAL:P3D
CALSCALE:GREGORIAN
BEGIN:VEVENT
DTSTART:20150216T140000Z
DTEND:20150221T193000Z
X-MICROSOFT-CDO-ALLDAYEVENT:FALSE
SUMMARY:Heart Health Mall Walk
DESCRIPTION:February is American Heart Health Month and 1 mall lap = 1 mile! In honor of Heart Health Month\, Hilltop Mall is hosting a week long Heart Health Walk. Walk the mall before work or over your lunch break and learn about heart health from area health representatives.
X-ALT-DESC;FMTTYPE=text/html:February is American Heart Health Month and 1 mall lap = 1 mile! In honor of Heart Health Month\, Hilltop Mall is hosting a week long Heart Health Walk. Walk the mall before work or over your lunch break and learn about heart health from area health representatives.
LOCATION:Hilltop Mall
UID:e.1404.6000
SEQUENCE:3
DTSTAMP:20260422T212346Z
URL:https://members.kearneycoc.org/events/details/heart-health-mall-walk-02-16-2015-6000
END:VEVENT

END:VCALENDAR
